BEGIN:VCALENDAR
VERSION:2.0
PRODID:icalendar-ruby
CALSCALE:GREGORIAN
METHOD:PUBLISH
BEGIN:VEVENT
DTSTAMP:20260425T040511Z
UID:8-715955@westview-bigpatch-churches.com
DTSTART:20261101T163000Z
DTEND:20261101T173000Z
CLASS:PUBLIC
CREATED:20260424T205912
DESCRIPTION:
LAST-MODIFIED:20260424T205912
LOCATION:Westview
SUMMARY:Worship - Westview
URL;VALUE=URI:https://westview-bigpatch-churches.com/events/worship-westvie
 w/2026-11-01
END:VEVENT
END:VCALENDAR
