BEGIN:VCALENDAR
VERSION:2.0
PRODID:icalendar-ruby
CALSCALE:GREGORIAN
METHOD:PUBLISH
BEGIN:VEVENT
DTSTAMP:20260424T163544Z
UID:8-714204@westview-bigpatch-churches.com
DTSTART:20260913T153000Z
DTEND:20260913T163000Z
CLASS:PUBLIC
CREATED:20260424T094804
DESCRIPTION:
LAST-MODIFIED:20260424T094804
LOCATION:Westview
SUMMARY:Worship - Westview
URL;VALUE=URI:https://westview-bigpatch-churches.com/events/worship-westvie
 w/2026-09-13
END:VEVENT
END:VCALENDAR
