BEGIN:VCALENDAR
VERSION:2.0
PRODID:icalendar-ruby
CALSCALE:GREGORIAN
METHOD:PUBLISH
BEGIN:VEVENT
DTSTAMP:20260424T132820Z
UID:8-713766@westview-bigpatch-churches.com
DTSTART:20260830T153000Z
DTEND:20260830T163000Z
CLASS:PUBLIC
CREATED:20260424T065446
DESCRIPTION:
LAST-MODIFIED:20260424T065446
LOCATION:Westview
SUMMARY:Worship - Westview
URL;VALUE=URI:https://westview-bigpatch-churches.com/events/worship-westvie
 w/2026-08-30
END:VEVENT
END:VCALENDAR
