BEGIN:VCALENDAR
VERSION:2.0
PRODID:icalendar-ruby
CALSCALE:GREGORIAN
METHOD:PUBLISH
BEGIN:VEVENT
DTSTAMP:20260424T103146Z
UID:8-713328@westview-bigpatch-churches.com
DTSTART:20260816T153000Z
DTEND:20260816T163000Z
CLASS:PUBLIC
CREATED:20260423T212622
DESCRIPTION:
LAST-MODIFIED:20260423T212622
LOCATION:Westview
SUMMARY:Worship - Westview
URL;VALUE=URI:https://westview-bigpatch-churches.com/events/worship-westvie
 w/2026-08-16
END:VEVENT
END:VCALENDAR
